BEGIN:VCALENDAR
VERSION:2.0
PRODID:-//KAG Bremen-Arbergen - ECPv6.15.20//NONSGML v1.0//EN
CALSCALE:GREGORIAN
METHOD:PUBLISH
X-WR-CALNAME:KAG Bremen-Arbergen
X-ORIGINAL-URL:https://kag-arbergen.de
X-WR-CALDESC:Veranstaltungen für KAG Bremen-Arbergen
REFRESH-INTERVAL;VALUE=DURATION:PT1H
X-Robots-Tag:noindex
X-PUBLISHED-TTL:PT1H
BEGIN:VTIMEZONE
TZID:Europe/Berlin
BEGIN:DAYLIGHT
TZOFFSETFROM:+0100
TZOFFSETTO:+0200
TZNAME:CEST
DTSTART:20240331T010000
END:DAYLIGHT
BEGIN:STANDARD
TZOFFSETFROM:+0200
TZOFFSETTO:+0100
TZNAME:CET
DTSTART:20241027T010000
END:STANDARD
BEGIN:DAYLIGHT
TZOFFSETFROM:+0100
TZOFFSETTO:+0200
TZNAME:CEST
DTSTART:20250330T010000
END:DAYLIGHT
BEGIN:STANDARD
TZOFFSETFROM:+0200
TZOFFSETTO:+0100
TZNAME:CET
DTSTART:20251026T010000
END:STANDARD
BEGIN:DAYLIGHT
TZOFFSETFROM:+0100
TZOFFSETTO:+0200
TZNAME:CEST
DTSTART:20260329T010000
END:DAYLIGHT
BEGIN:STANDARD
TZOFFSETFROM:+0200
TZOFFSETTO:+0100
TZNAME:CET
DTSTART:20261025T010000
END:STANDARD
END:VTIMEZONE
BEGIN:VEVENT
DTSTART;VALUE=DATE:20250912
DTEND;VALUE=DATE:20250915
DTSTAMP:20260421T160540
CREATED:20250819T182938Z
LAST-MODIFIED:20250819T182938Z
UID:684-1757635200-1757894399@kag-arbergen.de
SUMMARY:Arberger Dorffest 2025
DESCRIPTION:
URL:https://kag-arbergen.de/event/arberger-dorffest-2025-2/
END:VEVENT
BEGIN:VEVENT
DTSTART;VALUE=DATE:20250912
DTEND;VALUE=DATE:20250915
DTSTAMP:20260421T160540
CREATED:20241112T113706Z
LAST-MODIFIED:20250117T072642Z
UID:621-1757635200-1757894399@kag-arbergen.de
SUMMARY:Arberger Dorffest 2025
DESCRIPTION:Vorankündigung
URL:https://kag-arbergen.de/event/arberger-dorffest-2025/
END:VEVENT
BEGIN:VEVENT
DTSTART;TZID=Europe/Berlin:20250814T180000
DTEND;TZID=Europe/Berlin:20250814T200000
DTSTAMP:20260421T160540
CREATED:20250117T072853Z
LAST-MODIFIED:20250117T072853Z
UID:663-1755194400-1755201600@kag-arbergen.de
SUMMARY:Vorstandssitzung KAG
DESCRIPTION:Ort wird noch geklärt
URL:https://kag-arbergen.de/event/vorstandssitzung-kag-4/
END:VEVENT
BEGIN:VEVENT
DTSTART;TZID=Europe/Berlin:20250626T180000
DTEND;TZID=Europe/Berlin:20250626T200000
DTSTAMP:20260421T160540
CREATED:20250117T072832Z
LAST-MODIFIED:20250117T072832Z
UID:661-1750960800-1750968000@kag-arbergen.de
SUMMARY:Vorstandssitzung KAG
DESCRIPTION:Ort wird noch geklärt
URL:https://kag-arbergen.de/event/vorstandssitzung-kag-3/
END:VEVENT
BEGIN:VEVENT
DTSTART;TZID=Europe/Berlin:20250424T180000
DTEND;TZID=Europe/Berlin:20250424T200000
DTSTAMP:20260421T160540
CREATED:20250117T072815Z
LAST-MODIFIED:20250117T072815Z
UID:659-1745517600-1745524800@kag-arbergen.de
SUMMARY:Vorstandssitzung KAG
DESCRIPTION:Ort wird noch geklärt
URL:https://kag-arbergen.de/event/vorstandssitzung-kag-2/
END:VEVENT
END:VCALENDAR